BEGIN:VCALENDAR
VERSION:2.0
PRODID:icalendar-ruby
CALSCALE:GREGORIAN
BEGIN:VEVENT
DTSTAMP:20260329T143253Z
UID:event-occurrence-cd903072-9ab3-4e05-ba4f-745832200c29-event-86a9c6a8-e6
 20-457a-877e-74981dce0ddf@termine-e
DTSTART:20260515T100000
DTEND:20260515T000000
CLASS:PUBLIC
DESCRIPTION:Am Freitag nach Himmelfahrt\, also am 15.05.\, wollen wir mit d
 em Fahrrad die Region erkunden. Morgens um 10 Uhr treffen wir uns bei der 
 Johanneskirche in Empelde und fahren gemütlich gemeinsam nach Ronnenberg.
  Nach einer Erfrischung und Erkundung des Kirchhügels geht es dann weiter
  nach Weetzen\, wo es einen kleinen Mittagssnack geben wird.Wir freuen uns
  über Familien jeden Fitness-Levels. Zwischenstrecken oder der Rückweg k
 önnen auch mit der S-Bahn zurückgelegt werden.Informationen bei Diakon .
 ..
LOCATION:Johanneskirche Empelde\, Hallerstraße 3\, 30952\, Ronnenberg
SUMMARY:HimmelFahrradTour
END:VEVENT
END:VCALENDAR
