BEGIN:VCALENDAR
VERSION:2.0
PRODID:icalendar-ruby
CALSCALE:GREGORIAN
BEGIN:VEVENT
DTSTAMP:20260326T130920Z
UID:event-occurrence-ad39f4b9-7574-4894-ba03-d09c11a049cb-event-86526209-aa
 e7-45ed-9ab8-d154243dd0c6@termine-e
DTSTART:20271104T100000
DTEND:20271105T160000
CLASS:PUBLIC
DESCRIPTION:Im Alter läuft das Leben unweigerlich auf den Tod zu.Dieses Mo
 dul richtet den Fokus auf das Sterben alseinen wichtigen Teil des Lebens. 
 Wir setzen uns mitBedürfnissen von Menschen am Lebensende auseinander\;da
 zu gehört auch die existentielle bzw. spirituelleDimension. Welche Unters
 tützungsmöglichkeitengibt es und wie gestaltet sich christliche Seelsorg
 eim Kontext des Todes? Mit theoretischem Hintergrundwissenund praktischen 
 Hinweisen werden dieTeilnehmenden befähigt und ermutigt\, Schwerkrankeu..
 .
LOCATION:Franz-Hitze-Haus\, Münster
SUMMARY:älterwerden.endlich.leben Modul 10_Endlich leben – Seelsorgliche
  Begleitung am Lebensende
END:VEVENT
END:VCALENDAR
