BEGIN:VCALENDAR
VERSION:2.0
PRODID:icalendar-ruby
CALSCALE:GREGORIAN
BEGIN:VEVENT
DTSTAMP:20260328T101608Z
UID:event-occurrence-6a61931d-1311-4b35-93b3-ebfbe05bbe66-event-85f31832-71
 0f-4445-969b-3b1ccf504844@termine-e
DTSTART:20260607T103000
DTEND:20260607T000000
CLASS:PUBLIC
LOCATION:Garten 1\, Alveser Weg 1\, 30419\, Hannover
SUMMARY:Garten-Gottesdienst
END:VEVENT
END:VCALENDAR
