BEGIN:VCALENDAR
VERSION:2.0
PRODID:icalendar-ruby
CALSCALE:GREGORIAN
BEGIN:VEVENT
DTSTAMP:20260314T140854Z
UID:event-occurrence-b2bc4e74-cfe3-4e97-a6a3-09ee0926707c-event-85eb47c6-6e
 cb-4a9f-a8e5-5e81f068282a@termine-e
DTSTART:20260708T000000
DTEND:20260708T000000
CLASS:PUBLIC
DESCRIPTION:15 Minuten innehalten und vom alltag zur ruhe kommen.Draußen i
 m stadtteil feiern wir die Bergfest-andachten\, jeden Monat an einem ander
 en Ort und jedes Mal in einemneuen ambiente. Immer mittwochs: 20.05.\, 17.
 06.\, 08.07.\, 19.08.Der Ort und die uhrzeit bleiben jedes Mal eine Überr
 aschung. Infosgibt es kurz vorher per Whatsapp\, sMs oder E-Mail.Bitte mel
 den sie sich dafür vorher an\, an Tel. 0170/9932729 oderelisabeth.kulus@e
 vlka.de.
LOCATION:
SUMMARY:Bergfest-Andacht mit Überraschungseffekt
END:VEVENT
END:VCALENDAR
