BEGIN:VCALENDAR
VERSION:2.0
PRODID:icalendar-ruby
CALSCALE:GREGORIAN
BEGIN:VEVENT
DTSTAMP:20260328T120548Z
UID:event-occurrence-644a0117-4e15-4ed0-8c12-1b3c33debc29-event-8494b0b9-af
 39-490e-963c-fc106a13d257@termine-e
DTSTART:20260521T090000
DTEND:20260521T103000
CLASS:PUBLIC
DESCRIPTION:Ob Jung oder Alt: Du bist herzlich zu einem gemütlichen Frühs
 tück in der Nachbarschaft eingeladen. Du hast vormittags Zeit? Dann melde
  Dich an!Mitbringen: Lieblingsbrotaufstrich! Brötchen und Kaffee/ Tee sin
 d vorhanden.
LOCATION:Miriam Schäfer\, Im Sandbrook 22\, 21698\, Harsefeld
SUMMARY:Frühstückstreffen
END:VEVENT
END:VCALENDAR
