BEGIN:VCALENDAR
VERSION:2.0
PRODID:icalendar-ruby
CALSCALE:GREGORIAN
BEGIN:VEVENT
DTSTAMP:20260314T143249Z
UID:event-occurrence-94b3b7f4-8475-45d5-b9b5-309a12024f1f-event-84101c4e-59
 b7-47d7-87ab-58c93c955135@termine-e
DTSTART:20260602T170000
DTEND:20260602T190000
CLASS:PUBLIC
DESCRIPTION:In dieser Einheit lernen die Konfis die Bibel als das zentrale 
 Buch des christlichen Glaubens kennen. Wir schauen uns an\, wie die Bibel 
 aufgebaut ist\, aus welchen Teilen sie besteht und wie man sich in ihr ori
 entiert. Außerdem entdecken die Jugendlichen\, warum biblische Geschichte
 n bis heute eine wichtige Rolle für den Glauben und das Leben vieler Mens
 chen spielen.
LOCATION:Gemeindehaus der ev.-luth. Kirche St. Marien\, Kirchstraße 4\, 29
 339\, Wathlingen
SUMMARY:KU03: Das heilige Buch\, die Bibel
END:VEVENT
END:VCALENDAR
