BEGIN:VCALENDAR
VERSION:2.0
PRODID:icalendar-ruby
CALSCALE:GREGORIAN
BEGIN:VEVENT
DTSTAMP:20260310T164704Z
UID:event-occurrence-c997bcef-6031-4e65-98e4-d37bfc185053-event-81f9155c-a0
 0c-4e27-93c0-e55f42db08af@termine-e
DTSTART:20260315T101500
DTEND:20260315T000000
CLASS:PUBLIC
DESCRIPTION:Gemeinsam mit dem Posaunenchor Rechtsupweg unter der Leitung vo
 n Traute Ahrends feiern wir einen Gottesdienst\, der das Lied Herr\, der d
 u vormals hast dein Land mit Gnaden angeblicket von Paul Gerhardt in den M
 ittelpunkt stellt. Anschließend gibt es Kaffee und Kuchen in gemütlicher
  Runde im Karkhuus.
LOCATION:Johanneskirche Rechtsupweg\, Leezdorfer Straße 4\, 26529\, Rechts
 upweg
SUMMARY:Gottesdienst am Bläsersonntag
END:VEVENT
END:VCALENDAR
