BEGIN:VCALENDAR
VERSION:2.0
PRODID:icalendar-ruby
CALSCALE:GREGORIAN
BEGIN:VEVENT
DTSTAMP:20260409T120453Z
UID:event-occurrence-1707f09d-005f-4279-a658-90ad820fac00-event-81ba6191-7b
 69-41c8-b852-bde02eeba46b@termine-e
DTSTART:20261126T103000
DTEND:20261127T133000
CLASS:PUBLIC
DESCRIPTION:Mit bewährten Methoden wollen wir praktische Erfahrungen analy
 sieren und Erkenntnisse für die Zukunft daraus ableiten. Mit Hilfe der Me
 thode der kollegialen Beratung werden wir Situationen aus dem Alltag im Pf
 arramtsbüro reflektierten. Gewinnen Sie neue Erkenntnisse und bringen Sie
  Ihren Erfahrungsschatz ein!
LOCATION:EBZ Hermannsburg\, Lutterweg 16\, 29320\, Hermannsburg
SUMMARY:"Lange dabei" im Pfarramtsbüro
END:VEVENT
END:VCALENDAR
