BEGIN:VCALENDAR
VERSION:2.0
PRODID:icalendar-ruby
CALSCALE:GREGORIAN
BEGIN:VEVENT
DTSTAMP:20260422T072148Z
UID:event-occurrence-fcb2dec0-589c-40a8-90a7-dde6fba48def-event-8068cbb4-ec
 2b-46e6-8496-399434dcad8e@termine-e
DTSTART:20260519T160000
DTEND:20260519T173000
CLASS:PUBLIC
DESCRIPTION:für Lehrer*innen und Schulpastor*innen\, die an Berufsbildende
 n Schulen Religionsunterricht erteilen Leitung: Bianca Reineke Wie können
  Lehrkräfte auf die aktuellen Debatten um Wehrdienst\, Krieg und Frieden 
 reagieren? Welche Positionen vertritt die evangelische Kirche – und wie 
 lassen sich diese im Unterricht sowie in Beratungssituationen einsetzen? I
 n dieser digitalen Fortbildung erhalten Lehrkräfte weiterführender (beru
 fsbildender) Schulen Einblicke in die friedensethische Diskussion\, lernen
 ...
LOCATION:
SUMMARY:Neuer Wehrdienst\, Friedensethik und (berufsbildende) Schule. Orien
 tierung in bewegten Zeiten digitales Format
END:VEVENT
END:VCALENDAR
