BEGIN:VCALENDAR
VERSION:2.0
PRODID:icalendar-ruby
CALSCALE:GREGORIAN
BEGIN:VEVENT
DTSTAMP:20260424T115146Z
UID:event-occurrence-a66f052c-11d9-4c6d-8b65-f329d123ec1e-event-7eda1747-f6
 55-4c91-b030-29e88fa5e2b2@termine-e
DTSTART:20260506T180000
DTEND:20260506T000000
CLASS:PUBLIC
LOCATION:ESG-Osnabrück\, Arndtstraße 19\, 49080\, Osnabrück
SUMMARY:ESG Abendbrot
END:VEVENT
END:VCALENDAR
