BEGIN:VCALENDAR
VERSION:2.0
PRODID:icalendar-ruby
CALSCALE:GREGORIAN
BEGIN:VEVENT
DTSTAMP:20260412T192604Z
UID:event-occurrence-6903a7ef-e056-4182-8181-44d59dd77f75-event-7ebc8be7-41
 77-498c-ada5-9034721c9927@termine-e
DTSTART:20260802T103000
DTEND:20260802T000000
CLASS:PUBLIC
DESCRIPTION:Pn. FröhlichMusik: v. d. Heide\, Gitarre
LOCATION:Friedrichsquelle\, Bombergallee 3\, 31812\, Bad Pyrmont
SUMMARY:Gottesdienst I Sommerkirche mit Tauferinnerung
END:VEVENT
END:VCALENDAR
