BEGIN:VCALENDAR
VERSION:2.0
PRODID:icalendar-ruby
CALSCALE:GREGORIAN
BEGIN:VEVENT
DTSTAMP:20260422T211146Z
UID:event-occurrence-8441b380-99a2-4abe-871a-7b09c45f7501-event-7de4b911-b9
 f9-4fe8-b058-e1a6153b02ca@termine-e
DTSTART:20260910T190000
DTEND:20260910T220000
CLASS:PUBLIC
LOCATION:St. Thomas\, Bremer Str. 70\, 49163\, Bohmte
SUMMARY:KV-Sitzung
END:VEVENT
END:VCALENDAR
