BEGIN:VCALENDAR
VERSION:2.0
PRODID:icalendar-ruby
CALSCALE:GREGORIAN
BEGIN:VEVENT
DTSTAMP:20260327T104837Z
UID:event-occurrence-40ead998-cb79-4986-8f90-ee6f763572ca-event-7dbd5240-70
 ca-4a3e-99f3-dce2604ce2a9@termine-e
DTSTART:20260808T000000
DTEND:20260905T000000
CLASS:PUBLIC
DESCRIPTION:Über einen Zeitraum von 12 Jahren entstanden 50Motive zu Leben
 sgeschichten und einschneidenden\,prägenden Erfahrungen älterer Menschen
 .Auf der Grundlage langer Vorgespräche fandensich ‚Requisiten‘\, die 
 mit diesen Erfahrungen verbundensind. Die Bilder auf winterlichen\, kahlen
 Äckern sind Zeichen dieser persönlichen Lebensgeschichten.Sie können al
 lgemeingültig für die Erfahrungendieser Generation stehen.
LOCATION:St. Johannes-der-Täufer\, Walsrode
SUMMARY:PASSAGE Die Dinge | Das Leben - Fotoausstellung von Klaus G. Kohn
END:VEVENT
END:VCALENDAR
