BEGIN:VCALENDAR
VERSION:2.0
PRODID:icalendar-ruby
CALSCALE:GREGORIAN
BEGIN:VEVENT
DTSTAMP:20260409T142256Z
UID:event-occurrence-3048f7b7-ad5d-43cb-8d77-67a1f9d9691e-event-7cfa4632-e1
 a7-4261-820b-a29c9a004cef@termine-e
DTSTART:20260503T110000
DTEND:20260503T000000
CLASS:PUBLIC
DESCRIPTION:mit Pastor Claus van Veldhuizen
LOCATION:
SUMMARY:Gottesdienst in Frankenfeld
END:VEVENT
END:VCALENDAR
