BEGIN:VCALENDAR
VERSION:2.0
PRODID:icalendar-ruby
CALSCALE:GREGORIAN
BEGIN:VEVENT
DTSTAMP:20260415T060341Z
UID:event-occurrence-847ea4d5-8d44-4364-8ff5-30385b4301f9-event-7c933a91-ca
 3e-4f3f-9f1f-b533764a6c75@termine-e
DTSTART:20260507T180000
DTEND:20260507T000000
CLASS:PUBLIC
DESCRIPTION:Lesungsgespräch mit Ruby Rebelde und Nathalie EleythModeration
 : Susanne Paul (Evangelische Frauen*) An diesem Abend lesen und diskutiere
 n Ruby Rebelde und Nathalie Eleyth über ein Thema\, das polarisiert – u
 nd oft mehr von Emotionen als von Fakten geprägt ist. Ruby Rebelde liest 
 aus „Warum sie uns hassen - Sexarbeitsfeindlichkeit“ – ein wütender
 \, kluger und kompromissloser Blick auf gesellschaftliche Moral\, Macht un
 d Ausgrenzung.Nathalie Eleyth präsentiert ihren Text „Sex(arbeit) auf E
 vangelis...
LOCATION:ka:punkt\, Grupenstr. 8\, 30159\, Hannover
SUMMARY:MINENFELD SEXARBEIT? - ÜBER MORALPANIK UND CHRISTLICHE SEX(ARBEITS
 )FEINDLICHKEIT
END:VEVENT
END:VCALENDAR
