BEGIN:VCALENDAR
VERSION:2.0
PRODID:icalendar-ruby
CALSCALE:GREGORIAN
BEGIN:VEVENT
DTSTAMP:20260314T144345Z
UID:event-occurrence-a789db23-577e-485d-8a24-68091b7f26cf-event-7b37d1bb-ef
 00-4a07-960c-ae93eec0fbeb@termine-e
DTSTART:20260620T100000
DTEND:20260620T150000
CLASS:PUBLIC
DESCRIPTION:Im Rahmen einer Exkursion besuchen die Konfis eine Einrichtung 
 der Diakonie in Celle und lernen dort die praktische Seite kirchlicher Arb
 eit kennen. Vor Ort erfahren sie\, wie die Diakonie Menschen in unterschie
 dlichen Lebenssituationen unterstützt und welche sozialen Aufgaben sie in
  unserer Gesellschaft übernimmt.Hinweis: Die angegebenen Uhrzeiten dienen
  zur Orientierung und können sich im Einzelfall noch ändern. Der genaue 
 Treffpunkt sowie weitere organisatorische Informationen zur jeweilige...
LOCATION:
SUMMARY:KUEXTRA: Exkursion DW Celle
END:VEVENT
END:VCALENDAR
