BEGIN:VCALENDAR
VERSION:2.0
PRODID:icalendar-ruby
CALSCALE:GREGORIAN
BEGIN:VEVENT
DTSTAMP:20260314T145642Z
UID:event-occurrence-42e1d107-8e15-4f67-abfb-0ac71d2c4517-event-7ab9f0ec-d4
 f7-4ac6-9b27-1f519885c619@termine-e
DTSTART:20260910T160000
DTEND:20260913T160000
CLASS:PUBLIC
DESCRIPTION:Im Rahmen der Konfi-Zeit findet eine gemeinsame Konfirmandenkur
 sfahrt statt. Die Jugendlichen verbringen einige Tage zusammen\, lernen si
 ch besser kennen und beschäftigen sich in verschiedenen Einheiten mit The
 men des Glaubens. Neben gemeinsamen Aktionen\, Spielen und Gesprächen ste
 ht dabei vor allem das Erleben von Gemeinschaft im Mittelpunkt. Ort\, Prog
 ramm und weitere Informationen werden rechtzeitig vorher bekanntgegeben.
LOCATION:Missionarisches Zentrum Hanstedt\, Wriedeler Straße 14\, 29582\, 
 Hanstedt
SUMMARY:KUEXTRA: Konfirmandenkursfahrt
END:VEVENT
END:VCALENDAR
