BEGIN:VCALENDAR
VERSION:2.0
PRODID:icalendar-ruby
CALSCALE:GREGORIAN
BEGIN:VEVENT
DTSTAMP:20260412T193035Z
UID:event-occurrence-9c4b54b6-4fd4-4b33-8bd7-d507cf0a6aa1-event-7a41a2c6-59
 8e-45fd-ba78-797f767fd931@termine-e
DTSTART:20260719T103000
DTEND:20260719T000000
CLASS:PUBLIC
DESCRIPTION:Pn. FröhlichMusik: Oesdorfer Posaunenchor
LOCATION:Kleinenberg an der Zehntscheune
SUMMARY:Gottesdienst I Sommerkirche
END:VEVENT
END:VCALENDAR
