BEGIN:VCALENDAR
VERSION:2.0
PRODID:icalendar-ruby
CALSCALE:GREGORIAN
BEGIN:VEVENT
DTSTAMP:20260420T144535Z
UID:event-occurrence-9f581c56-30b5-449b-ac58-22e6917e1217-event-7a2f18ce-0d
 e8-4eec-a1f3-d165a676e35b@termine-e
DTSTART:20260503T000000
DTEND:20260503T000000
CLASS:PUBLIC
LOCATION:
SUMMARY:Gottesdienst um 10 Uhr
END:VEVENT
END:VCALENDAR
