BEGIN:VCALENDAR
VERSION:2.0
PRODID:icalendar-ruby
CALSCALE:GREGORIAN
BEGIN:VEVENT
DTSTAMP:20260419T124528Z
UID:event-occurrence-32cd29ee-7cd9-45a8-aac8-34301b477fb9-event-79a02f71-71
 ca-48dc-9f9d-1af806f28fa5@termine-e
DTSTART:20260510T110000
DTEND:20260510T000000
CLASS:PUBLIC
LOCATION:Emmaus Kirche\, St.Willehadusweg\, 27711\, Pennigbüttel
SUMMARY:Gottesdienst
END:VEVENT
END:VCALENDAR
