BEGIN:VCALENDAR
VERSION:2.0
PRODID:icalendar-ruby
CALSCALE:GREGORIAN
BEGIN:VEVENT
DTSTAMP:20260323T125252Z
UID:event-occurrence-c0993086-37ff-4698-bdb8-41678880b94a-event-791eb065-1b
 b5-4cb9-ade0-c0e7c67226c4@termine-e
DTSTART:20260426T100000
DTEND:20260426T110000
CLASS:PUBLIC
LOCATION:Moorkirche\, Kirchstr. 13\, 27259\, Freistatt
SUMMARY:Gottesdienst\, in der Moorkirche\, mit Pastorin Gunda Hansen
END:VEVENT
END:VCALENDAR
