BEGIN:VCALENDAR
VERSION:2.0
PRODID:icalendar-ruby
CALSCALE:GREGORIAN
BEGIN:VEVENT
DTSTAMP:20240108T113934Z
UID:event-occurrence-1fadcc34-32d4-43c6-9e9b-dbeeb0c5dc3e-event-787ae292-fb
 05-483e-8837-d3bda28c63ca@termine-e
DTSTART:20241104T150000
DTEND:20241105T130000
CLASS:PUBLIC
DESCRIPTION:Treffen der Kirchenkreis- bzw. PropsteibeauftragtenEinmal im Ja
 hr kommen Interessierte an der Pfarrer*innen- und Diakon*innenfortbildung 
 in Loccum zusammen\, um gemeinsam mit der Studienleitung des Pastoralkolle
 gs Fragen des Profils\, der Organisation und der inhaltlichen Ausrichtung 
 zu diskutieren. Neben exemplarischer Themenentwicklung steht in der Regel 
 ein aktueller Arbeitsschwerpunkt im Mittelpunkt\, der einige Wochen vorher
  festgelegt wird.Eine offene Anmeldung zu diesem Kolleg ist nicht m...
LOCATION:Pastoralkolleg Niedersachsen\, Münchhäger Str. 6\, 31547\, Rehbu
 rg-Loccum
SUMMARY:Netzwerktagung 24/41
END:VEVENT
END:VCALENDAR
