BEGIN:VCALENDAR
VERSION:2.0
PRODID:icalendar-ruby
CALSCALE:GREGORIAN
BEGIN:VEVENT
DTSTAMP:20260414T160003Z
UID:event-occurrence-003d3ae9-65b9-4a3e-b6bc-553c3280bc4c-event-78636452-a0
 f8-4006-9d21-222c8c811f1e@termine-e
DTSTART:20260510T093000
DTEND:20260510T000000
CLASS:PUBLIC
DESCRIPTION:Konfirmation I Weinreben KU8 mit Pastor Andreas Pöhlmann und D
 iakonin Rhena Wilinski
LOCATION:
SUMMARY:Konfirmation I Weinreben KU8
END:VEVENT
END:VCALENDAR
