BEGIN:VCALENDAR
VERSION:2.0
PRODID:icalendar-ruby
CALSCALE:GREGORIAN
BEGIN:VEVENT
DTSTAMP:20260423T193401Z
UID:event-occurrence-15e0a245-7050-4763-9842-5f7ccddd1811-event-784430bb-65
 e4-4851-b92e-48fe498a29b0@termine-e
DTSTART:20260426T093000
DTEND:20260426T000000
CLASS:PUBLIC
DESCRIPTION:Leitung: Pastor Nickel
LOCATION:St. Martinskirche Dorfmark\, Hauptstraße 12\, 29683\, Dorfmark
SUMMARY:Gottesdienst mit Taufe in Dorfmark
END:VEVENT
END:VCALENDAR
