BEGIN:VCALENDAR
VERSION:2.0
PRODID:icalendar-ruby
CALSCALE:GREGORIAN
BEGIN:VEVENT
DTSTAMP:20260310T094030Z
UID:event-occurrence-5d8edbaa-aa90-4f97-a31d-fb632844e50b-event-76816611-e6
 bd-4645-993c-27bb0a1398ee@termine-e
DTSTART:20260315T103000
DTEND:20260315T000000
CLASS:PUBLIC
DESCRIPTION:Pastor Rückleben
LOCATION:Andreasgemeinde Norden\, Gottfried-Keller-Str. 3\, 26506\, Norden
SUMMARY:Gottesdienst mit Abendmahl\, Posaunenchor
END:VEVENT
END:VCALENDAR
