BEGIN:VCALENDAR
VERSION:2.0
PRODID:icalendar-ruby
CALSCALE:GREGORIAN
BEGIN:VEVENT
DTSTAMP:20260417T151647Z
UID:event-occurrence-3de1dbb7-c460-4a52-9967-cfe8f9978ffd-event-7668fe1a-51
 9b-4c95-b908-a7674b58cdfe@termine-e
DTSTART:20260503T100000
DTEND:20260503T000000
CLASS:PUBLIC
DESCRIPTION:anschließend Maibaumfest auf dem Kirchengelände
LOCATION:Kirche Wettbergen\, An der Kirche 25\, 30457\, Hannover
SUMMARY:Familiengottesdienst am Ostermontag mit Pastor Johannes Hagenah und
  Diakonin Frederike Flathmann
END:VEVENT
END:VCALENDAR
