BEGIN:VCALENDAR
VERSION:2.0
PRODID:icalendar-ruby
CALSCALE:GREGORIAN
BEGIN:VEVENT
DTSTAMP:20260421T142027Z
UID:event-occurrence-27b43083-6e27-43cc-9c6f-1a5acbb241cb-event-7598da49-0b
 ad-43bd-b9c5-87f13b8cb1fe@termine-e
DTSTART:20260809T100000
DTEND:20260809T000000
CLASS:PUBLIC
DESCRIPTION:10. Sonntag nach Trinitatis"Sommerkirche 2026 IV": Mit der Tauc
 herbrille können wir nun auch dort sehen\, wo gar nicht unser Lebensraum 
 ist?
LOCATION:Cäcilien- und Margarethenkirche Leerhafe\, Brinkerstr. 2\, 26409\
 , Wittmund
SUMMARY:"Taucherbrille"
END:VEVENT
END:VCALENDAR
