BEGIN:VCALENDAR
VERSION:2.0
PRODID:icalendar-ruby
CALSCALE:GREGORIAN
BEGIN:VEVENT
DTSTAMP:20260416T100005Z
UID:event-occurrence-d1e49de2-74dc-4feb-84e2-c0c130b4ec2d-event-74daebb7-a1
 ed-4ebb-a601-21676825922d@termine-e
DTSTART:20261023T000000
DTEND:20261025T000000
CLASS:PUBLIC
DESCRIPTION:To use Rüststied in 2026 dreept wi us vun 23. - 25. Oktober 20
 26 in dat Ev. Bildungshuus Rastede. As Referent hebbt wi de Bibliodramatik
 er Uwe Fischer wunnen. Dat Thema is: 'Good un Böös' in de Bibel
LOCATION:Ev. Bildungshaus Rastede\, Mühlenstr. 126\, 26180\, Rastede
SUMMARY:Rüsttied in Rastede für Lektor*innen und Prädikant*innen!
END:VEVENT
END:VCALENDAR
