BEGIN:VCALENDAR
VERSION:2.0
PRODID:icalendar-ruby
CALSCALE:GREGORIAN
BEGIN:VEVENT
DTSTAMP:20250824T114557Z
UID:event-occurrence-cb70c4d6-88a6-418c-8c4a-75002a19043f-event-74323f18-d0
 95-46f1-9b0e-79a5b3d9314f@termine-e
DTSTART:20250914T110000
DTEND:20250914T000000
CLASS:PUBLIC
DESCRIPTION:mit Pastorin Merscher-Schüler
LOCATION:Nazarethkirche\, Südstadt\, Sallstr. 55\, 30171\, Hannover
SUMMARY:Gottesdienst
END:VEVENT
END:VCALENDAR
