BEGIN:VCALENDAR
VERSION:2.0
PRODID:icalendar-ruby
CALSCALE:GREGORIAN
BEGIN:VEVENT
DTSTAMP:20260314T143904Z
UID:event-occurrence-989e1dc7-49d0-4f88-b491-6c256f55e6e3-event-741b9d83-a1
 b7-4e92-9614-9018cbf55abc@termine-e
DTSTART:20270126T170000
DTEND:20270126T190000
CLASS:PUBLIC
DESCRIPTION:In dieser Einheit beschäftigen sich die Konfis mit der Taufe. 
 Gemeinsam sprechen wir darüber\, was bei einer Taufe geschieht\, welche S
 ymbole dabei eine Rolle spielen und was die Taufe für Christinnen und Chr
 isten bedeutet. Dabei geht es auch um die Zusage Gottes\, die mit der Tauf
 e verbunden ist\, und um die Bedeutung der Taufe für das eigene Leben und
  den Glauben.
LOCATION:Gemeindehaus der ev.-luth. Kirche St. Marien\, Kirchstraße 4\, 29
 339\, Wathlingen
SUMMARY:KU15: Taufe
END:VEVENT
END:VCALENDAR
