BEGIN:VCALENDAR
VERSION:2.0
PRODID:icalendar-ruby
CALSCALE:GREGORIAN
BEGIN:VEVENT
DTSTAMP:20260413T075806Z
UID:event-occurrence-81d0b1b6-dde4-453e-99cf-605ad6a9af3e-event-73d834cc-2d
 e7-4204-b4d2-06601c1ae0b2@termine-e
DTSTART:20260426T100000
DTEND:20260426T000000
CLASS:PUBLIC
LOCATION:Kirchengemeinde Peter und Paul\, Friedenstr. 3\, 29640\, Schneverd
 ingen
SUMMARY:Peter-und-Paul-Kirche: Gottesdienst\, Pastor i.R. Dieter Klingbeil
END:VEVENT
END:VCALENDAR
