BEGIN:VCALENDAR
VERSION:2.0
PRODID:icalendar-ruby
CALSCALE:GREGORIAN
BEGIN:VEVENT
DTSTAMP:20260422T210920Z
UID:event-occurrence-2b2f6f46-04de-4eb1-bb9c-11aa497d8fdd-event-73ca2e65-1f
 54-4305-9089-d9982c666ff7@termine-e
DTSTART:20260507T190000
DTEND:20260507T220000
CLASS:PUBLIC
LOCATION:St. Thomas\, Bremer Str. 70\, 49163\, Bohmte
SUMMARY:KV-Sitzung
END:VEVENT
END:VCALENDAR
