BEGIN:VCALENDAR
VERSION:2.0
PRODID:icalendar-ruby
CALSCALE:GREGORIAN
BEGIN:VEVENT
DTSTAMP:20260420T093406Z
UID:event-occurrence-1dc216cf-1085-4f60-a4df-f48ba296e7a0-event-723155d6-03
 e5-4ace-bedc-6257f6040227@termine-e
DTSTART:20260626T180000
DTEND:20260626T000000
CLASS:PUBLIC
DESCRIPTION:mit dem Bunte-Tüte-Team und Pastor Freytag sowie mit dem Tromm
 ellehrer Papy Lunguangu\, seiner Trommelgruppe vom Johnny B. und Christian
  Bakotessa
LOCATION:Paulus-Kirchenzentrum\, Berliner Ring 17\, 31303\, Burgdorf
SUMMARY:Bunte-Tüte-Gottesdienst mit dem Trommellehrer Papy Lunguangu im Pa
 ulus-Kirchenzentrum Burgdorf
END:VEVENT
END:VCALENDAR
