BEGIN:VCALENDAR
VERSION:2.0
PRODID:icalendar-ruby
CALSCALE:GREGORIAN
BEGIN:VEVENT
DTSTAMP:20260416T090652Z
UID:event-occurrence-00d6d7c7-7245-4075-ae6e-a7747f5d8e44-event-71a61a27-b1
 77-4a7d-b7ff-a77ceb9a4272@termine-e
DTSTART:20260602T180000
DTEND:20260602T000000
CLASS:PUBLIC
DESCRIPTION:Heiraten oder getauft werden\, das ist unabhängig vom Alter fa
 st jederzeit möglich. Auch konfirmiert werden kann\, wer bereits 18 Jahre
  alt ist. Aber die Konfi-Zeit mit vielen Gleichaltrigen zu erleben\, gemei
 nsam mit älteren Jugendlichen über den Sinn des Lebens zu philosophieren
 \, auf Freizeit zu fahren – diese Möglichkeit gibt es so nur einmal im 
 Leben\, nämlich zwischen zwölf und vierzehn Jahren.Gemeinschaft und Erle
 bnis werden bei uns großgeschrieben. Teamgeist\, neue Erfahrungen und The
 men\, ü...
LOCATION:St.-Paulus-Kirche\, Finkenstraße 53\, 21614\, Buxtehude
SUMMARY:Info-Abend für die Konfi-Zeit
END:VEVENT
END:VCALENDAR
