BEGIN:VCALENDAR
VERSION:2.0
PRODID:icalendar-ruby
CALSCALE:GREGORIAN
BEGIN:VEVENT
DTSTAMP:20260326T104311Z
UID:event-occurrence-d1aa39d0-784b-4713-85ca-c91f9f52a1fe-event-70eecce8-6d
 b9-4cd7-b379-0bcabd4064b5@termine-e
DTSTART:20260909T140000
DTEND:20260910T130000
CLASS:PUBLIC
DESCRIPTION:Ganz unterschiedlich sind unsere Vorstellungen\,wenn es um das 
 Thema Alter geht: Was bedeutet es\,alt zu sein? Was beschäftigt die Älte
 ren\, wie „ticken“sie?In der Corona-Pandemie wurden Menschen alleinauf
 grund ihres kalendarischen Alters als schutzbedürftigeingestuft. Und auch
  insgesamt verbinden immernoch viele das Altsein mit Krankheit\, verminder
 terLeistungsfähigkeit und Hilfsbedürftigkeit. Dabeigilt längst: Die Alt
 en sind nicht mehr die Alten! DasModul möchte aus psychologischer\, sozio
 logisc...
LOCATION:
SUMMARY:älterwerden.endlich.leben Modul 1_Wer ist hier alt? - Neue Perspek
 tiven auf das Älterwerden
END:VEVENT
END:VCALENDAR
