BEGIN:VCALENDAR
VERSION:2.0
PRODID:icalendar-ruby
CALSCALE:GREGORIAN
BEGIN:VEVENT
DTSTAMP:20260314T144428Z
UID:event-occurrence-2a9ad18a-98a5-458c-a868-058714224e50-event-708760a1-67
 f2-4617-8b0d-de81bb576c4b@termine-e
DTSTART:20270220T100000
DTEND:20270220T160000
CLASS:PUBLIC
DESCRIPTION:Bei einer Exkursion zum Evangelisch-Lutherisches Missionswerk i
 n Niedersachsen lernen die Konfis die weltweite Arbeit der Kirche kennen. 
 Vor Ort erfahren sie\, wie sich die Kirche international engagiert und Men
 schen in verschiedenen Ländern unterstützt. Dabei bekommen die Jugendlic
 hen einen Einblick in die Themen Mission\, Partnerschaft und globale Veran
 twortung.Hinweis:Die angegebenen Uhrzeiten dienen zur Orientierung und kö
 nnen sich im Einzelfall noch ändern. Der genaue Treffpunkt sowie weit...
LOCATION:
SUMMARY:KUEXTRA: Exkursion ELM
END:VEVENT
END:VCALENDAR
