BEGIN:VCALENDAR
VERSION:2.0
PRODID:icalendar-ruby
CALSCALE:GREGORIAN
BEGIN:VEVENT
DTSTAMP:20260323T125252Z
UID:event-occurrence-3f9c4385-f19b-479d-808b-2e77e0b86467-event-706cde71-16
 b7-47a3-a814-5795fce36cd3@termine-e
DTSTART:20260419T100000
DTEND:20260419T113000
CLASS:PUBLIC
DESCRIPTION:Festgottesdienst zur Konfirmation mit Beteiligung des Posaunenc
 hores
LOCATION:Barver - Kirche\, Kirchweg 57\, 49453\, Barver
SUMMARY:Gottesdienst\, Kirche Barver\, Pastor Schweitz und Team
END:VEVENT
END:VCALENDAR
