BEGIN:VCALENDAR
VERSION:2.0
PRODID:icalendar-ruby
CALSCALE:GREGORIAN
BEGIN:VEVENT
DTSTAMP:20260417T151750Z
UID:event-occurrence-6462a430-3e54-4fc3-9e9f-76cdf7ead042-event-6fdde80b-2a
 3f-49d2-b215-432995e7e3c7@termine-e
DTSTART:20260503T110000
DTEND:20260503T160000
CLASS:PUBLIC
LOCATION:Kirchplatz\, An der Kirche 23\, 30457\, Hannover
SUMMARY:Maibaumfest auf dem Kirchengelände
END:VEVENT
END:VCALENDAR
