BEGIN:VCALENDAR
VERSION:2.0
PRODID:icalendar-ruby
CALSCALE:GREGORIAN
BEGIN:VEVENT
DTSTAMP:20260328T100751Z
UID:event-occurrence-ad5f571c-b5ef-4191-942e-5b82f26db66e-event-6eeb118f-d6
 12-45ff-af5a-acad3b5ffb0d@termine-e
DTSTART:20260514T100000
DTEND:20260514T000000
CLASS:PUBLIC
DESCRIPTION:Chöre aus der Region und Bläser
LOCATION:Gartentheater des Großen Gartens Herrenhausen\, 30419\, Hannover
SUMMARY:Gottesdienst
END:VEVENT
END:VCALENDAR
