BEGIN:VCALENDAR
VERSION:2.0
PRODID:icalendar-ruby
CALSCALE:GREGORIAN
BEGIN:VEVENT
DTSTAMP:20260317T171519Z
UID:event-occurrence-0abe33be-8c0e-4ddd-8875-0c57d00cfc5d-event-6ee8b765-84
 5b-4af5-bbbd-2b0f20067eb5@termine-e
DTSTART:20261220T150000
DTEND:20261220T000000
CLASS:PUBLIC
LOCATION:Gemeindehaus Wilstedt\, Am Brink 4\, 27412\, Wilstedt
SUMMARY:Trauercafe
END:VEVENT
END:VCALENDAR
