BEGIN:VCALENDAR
VERSION:2.0
PRODID:icalendar-ruby
CALSCALE:GREGORIAN
BEGIN:VEVENT
DTSTAMP:20260314T143949Z
UID:event-occurrence-649c1ad0-a77a-4ac6-bb19-649887885dd7-event-6e5f1c1e-62
 3f-49f7-9928-3055cf2f3bf1@termine-e
DTSTART:20270223T170000
DTEND:20270223T190000
CLASS:PUBLIC
DESCRIPTION:In dieser Einheit beschäftigen sich die Konfis mit der Bedeutu
 ng der Konfirmation. Gemeinsam schauen wir darauf\, woher die Konfirmation
  kommt\, was sie in der evangelischen Kirche bedeutet und welche Rolle sie
  für den eigenen Glaubensweg spielen kann. Dabei geht es auch darum\, was
  die Jugendlichen bei ihrer Konfirmation eigentlich bestätigen und warum 
 dieses Fest für viele Familien und Gemeinden so wichtig ist.
LOCATION:Gemeindehaus der ev.-luth. Kirche St. Marien\, Kirchstraße 4\, 29
 339\, Wathlingen
SUMMARY:KU17: Konfirmation\, was ist das?
END:VEVENT
END:VCALENDAR
