BEGIN:VCALENDAR
VERSION:2.0
PRODID:icalendar-ruby
CALSCALE:GREGORIAN
BEGIN:VEVENT
DTSTAMP:20260413T065747Z
UID:event-occurrence-c330e357-e970-46ee-8615-567fdc8a9c52-event-6c34dc9e-5a
 2f-4109-b506-dd996dc7fc37@termine-e
DTSTART:20260830T090000
DTEND:20260830T000000
CLASS:PUBLIC
DESCRIPTION:Pn. FröhlichMusik: Brödling
LOCATION:Kapelle zum guten Hirten\, Eichenbrink\, 31812\, Bad Pyrmont
SUMMARY:Gottesdienst
END:VEVENT
END:VCALENDAR
