BEGIN:VCALENDAR
VERSION:2.0
PRODID:icalendar-ruby
CALSCALE:GREGORIAN
BEGIN:VEVENT
DTSTAMP:20260423T083252Z
UID:event-occurrence-e9ec56ce-950d-477f-93c7-2bd1b1d359e3-event-6c2ed026-11
 53-4c02-90f1-e7c6029df095@termine-e
DTSTART:20260426T100000
DTEND:20260426T000000
CLASS:PUBLIC
LOCATION:Kirche Strackholt\, Lindenstraße 20\, 26629\, Strackholt
SUMMARY:Gottesdienst mit Prädikantin Christiane de Boer
END:VEVENT
END:VCALENDAR
