BEGIN:VCALENDAR
VERSION:2.0
PRODID:icalendar-ruby
CALSCALE:GREGORIAN
BEGIN:VEVENT
DTSTAMP:20260422T184050Z
UID:event-occurrence-18e69e59-dbe4-42f6-8c58-907b51850e24-event-6c169d74-29
 8f-44eb-83d4-30c708720f58@termine-e
DTSTART:20260627T160000
DTEND:20260627T000000
CLASS:PUBLIC
LOCATION:Kloster Amelungsborn
SUMMARY:Finissage mit Pantomime & Lesung & Musik
END:VEVENT
END:VCALENDAR
