BEGIN:VCALENDAR
VERSION:2.0
PRODID:icalendar-ruby
CALSCALE:GREGORIAN
BEGIN:VEVENT
DTSTAMP:20260423T100520Z
UID:event-occurrence-060fac77-b185-4c5d-a9f0-775337c62959-event-6c13123e-52
 8b-408b-9c8e-fe82aa447316@termine-e
DTSTART:20260531T120000
DTEND:20260531T000000
CLASS:PUBLIC
DESCRIPTION:"Wasser fürs Leben"
LOCATION:Kirchgarten Dreifaltigkeit\, Holscherstr.\, 30161\, Hannover
SUMMARY:Gemeindefest
END:VEVENT
END:VCALENDAR
