BEGIN:VCALENDAR
VERSION:2.0
PRODID:icalendar-ruby
CALSCALE:GREGORIAN
BEGIN:VEVENT
DTSTAMP:20260325T102846Z
UID:event-occurrence-acb180b5-6983-4f03-ae80-8cf5b6aaa5fe-event-6ba5d490-bd
 b2-4073-bae7-6be751594839@termine-e
DTSTART:20260514T100000
DTEND:20260514T000000
CLASS:PUBLIC
DESCRIPTION:Ökumenischer Gottesdienst in der katholischen St. Michael Kirc
 he\, Hof von Holland 12\, 26725 Emden. U.a. mit Pastor Heiner Dorkowski
LOCATION:
SUMMARY:Ökumenischer Gottesdienst in der St. Michael Kirche
END:VEVENT
END:VCALENDAR
