BEGIN:VCALENDAR
VERSION:2.0
PRODID:icalendar-ruby
CALSCALE:GREGORIAN
BEGIN:VEVENT
DTSTAMP:20260401T075659Z
UID:event-occurrence-3c16922e-6133-401f-b226-dcdaf683169b-event-6b2cfa84-ce
 ef-4bb8-8051-194904a50589@termine-e
DTSTART:20260503T180000
DTEND:20260503T000000
CLASS:PUBLIC
DESCRIPTION:Barocco Nuevo
LOCATION:Klosterkirche Fredelsloh\, Klosterhof 1\, 37186\, Fredelsloh
SUMMARY:Konzert Gentle Spirits
END:VEVENT
END:VCALENDAR
