BEGIN:VCALENDAR
VERSION:2.0
PRODID:icalendar-ruby
CALSCALE:GREGORIAN
BEGIN:VEVENT
DTSTAMP:20260420T102748Z
UID:event-occurrence-17bf7fda-0bdc-4353-b57a-3bdddf957c2e-event-6a36fa4d-ab
 b4-4508-92ca-9d159a5e63d7@termine-e
DTSTART:20260426T100000
DTEND:20260426T000000
CLASS:PUBLIC
LOCATION:St. Katharinen\, An der Katharinenkirche 8\, 49074\, Osnabrück
SUMMARY:Hauptgottesdienst\, Pastorin Andrea Kruckemeyer\, Kantor Arne Hatje
END:VEVENT
END:VCALENDAR
