BEGIN:VCALENDAR
VERSION:2.0
PRODID:icalendar-ruby
CALSCALE:GREGORIAN
BEGIN:VEVENT
DTSTAMP:20260324T223739Z
UID:event-occurrence-a49ae189-c1e2-47ba-a977-fa1f796d245e-event-69bb050d-04
 b9-4852-af29-0b015fc3d146@termine-e
DTSTART:20260531T180000
DTEND:20260531T000000
CLASS:PUBLIC
DESCRIPTION:St.-Laurentius Kirche in Achim
LOCATION:St.-Laurentius Kirche\, Pfarrstraße 4a\, 28832\, Achim
SUMMARY:Kirchenkreisgottesdienst in Achim
END:VEVENT
END:VCALENDAR
