BEGIN:VCALENDAR
VERSION:2.0
PRODID:icalendar-ruby
CALSCALE:GREGORIAN
BEGIN:VEVENT
DTSTAMP:20241017T085649Z
UID:event-occurrence-11eca008-55ef-4026-b987-cea7c386165e-event-69723ec6-35
 d4-4e5b-8522-116a88355356@termine-e
DTSTART:20241031T150000
DTEND:20241103T140000
CLASS:PUBLIC
DESCRIPTION:Für Paare\, die ihre Ehe krisenfest machen möchten. In Kooper
 ation mit TEAM.F. Ihre Ehe sollte so schön werden und jetzt kriselt es st
 ändig? Reizthemen werden umschifft\, Konflikte bleiben ungelöst\, ein St
 reit jagt den anderen. Lohnt es sich überhaupt noch? Wenn Sie aufgeben\, 
 werden Sie es nie erfahren. Wenn Sie kämpfen\, werden Sie eine Antwort fi
 nden. Vielleicht schon in diesem Seminar. – Sie träumen von einer entsp
 annten Beziehung und sind es leid\, sich an Konflikten aufzureiben? Möcht
 en Sie ...
LOCATION:Ev. Bildungszentrum Hermannsburg\, Lutterweg 16\, 29320\, Hermanns
 burg
SUMMARY:Unsere Ehe soll gelingen / Seminar-Nr. 24-840
END:VEVENT
END:VCALENDAR
